BEGIN:VCALENDAR
VERSION:2.0
PRODID:-//eventon.com NONSGML v1.0//EN
CALSCALE:GREGORIAN
METHOD:PUBLISH
BEGIN:VEVENT
UID:69eca9d4da47b
DTSTAMP:20260425T114732Z
DTSTART:20190915T100000Z
DTEND:20191018T190000Z
LOCATION:Galerie SIT DOWN 4\,  rue Sainte Anastase 75003 Paris
SUMMARY:Anarchie au Royaume-Uni
DESCRIPTION:A l’occasion de la publication du nouveau livre de Yan Morvan
  “Les années de fer“ aux éditions Serious Publishing\,  la galerie Si
 t Down présente l’exposition “Anarchie au Royaume-Uni“\,  une sélec
 tion de tirages dont les négatifs étaient restés enfouis dans une boite 
 nommée “Angleterre“ depuis les années quatre-vingt. Ces images sont[.
 .]\nhttps://www.9lives-magazine.com/events/anarchie-royaume-uni-yan-morvan/
URL:https://www.9lives-magazine.com/events/anarchie-royaume-uni-yan-morvan/
END:VEVENT
END:VCALENDAR