BEGIN:VCALENDAR
VERSION:2.0
PRODID:-//eventon.com NONSGML v1.0//EN
CALSCALE:GREGORIAN
METHOD:PUBLISH
BEGIN:VEVENT
UID:69e69ecd0fbab
DTSTAMP:20260420T214653Z
DTSTART:20200129T130000Z
DTEND:20200823T190000Z
LOCATION:Le Château d’Eau - Pôle photographique de Toulouse 1\,  place Laganne 31300 Toulouse
SUMMARY:Rencontres
DESCRIPTION:Rencontres est une grande exposition rétrospective constitué
 e de 90 photographies argentiques retraçant la carrière de Bernard Descam
 ps. Ses travaux emblématiques sur l&rsquo;Afrique\,  le Japon\,  l&rsquo;I
 nde\,  les années 70 et ses paysages y seront exposés ainsi que sa derni
 ère série\,  natura.  Il serait légitime qu’un jour Bernard Descamps
  obtienne le statut de trésor national[..]\nhttps://www.9lives-magazine.co
 m/events/fragments-de-temps-bernard-descamps/
URL:https://www.9lives-magazine.com/events/fragments-de-temps-bernard-descamps/
END:VEVENT
END:VCALENDAR