BEGIN:VCALENDAR
VERSION:2.0
PRODID:-//eventon.com NONSGML v1.0//EN
CALSCALE:GREGORIAN
METHOD:PUBLISH
BEGIN:VEVENT
UID:69e548cee2d50
DTSTAMP:20260419T212742Z
DTSTART:20190919T070000Z
DTEND:20191219T220000Z
LOCATION:quai bas Aimé Césaire Quai Aimé Césaire 75001 Paris
SUMMARY:Habana’s Old Cars
DESCRIPTION:1519 &#8211; 2019… célébrons les 500 ans de La Havane au co
 eur de Paris J’étais arrivée la veille\,  installée chez l’habitant.
  Au petit matin\,  je suis sortie avec mon matériel photo dans cette ville
  inconnue\,  La Havane\,  pour la sentir et commencer un travail sur son po
 rtrait. Je ne parle[..]\nhttps://www.9lives-magazine.com/events/habanas-old
 -cars-veronique-fel/
URL:https://www.9lives-magazine.com/events/habanas-old-cars-veronique-fel/
END:VEVENT
END:VCALENDAR