BEGIN:VCALENDAR
VERSION:2.0
PRODID:-//eventon.com NONSGML v1.0//EN
CALSCALE:GREGORIAN
METHOD:PUBLISH
BEGIN:VEVENT
UID:69e5a482cf707
DTSTAMP:20260420T035858Z
DTSTART:20191023T100000Z
DTEND:20191106T153000Z
LOCATION:Centre d'art GwinZegal 4 rue Auguste Pavie 22200 Guingamp
SUMMARY:Les yeux ouverts
DESCRIPTION:Présentation des travaux réalisés dans le cadre des ateliers
  d’expression menés durant l’année 2018-2019 au Centre d’art GwinZe
 gal. Une quinzaine d’ateliers ont permis cette année d’expérimenter l
 ’image photographique auprès d’un large public (école\,  collège\,  
 lycée\,  maison d’arrêt…). Avec les artistes : Isabelle Vaillant\,  L
 olita Bourdet\,  Alexandra Serrano\,  Mathieu Bernard-Reymond\,  Sebastian[
 ..]\nhttps://www.9lives-magazine.com/events/les-yeux-ouverts/
URL:https://www.9lives-magazine.com/events/les-yeux-ouverts/
END:VEVENT
END:VCALENDAR