BEGIN:VCALENDAR
VERSION:2.0
PRODID:-//eventon.com NONSGML v1.0//EN
CALSCALE:GREGORIAN
METHOD:PUBLISH
BEGIN:VEVENT
UID:69eb0af0959b3
DTSTAMP:20260424T061720Z
DTSTART:20191030T190000Z
DTEND:20191231T010000Z
LOCATION:La Bellevilloise (Halle aux Oliviers) 19-21 Rue Boyer\,  75020 Paris
SUMMARY:Americana
DESCRIPTION:Des Yeux sur le Monde La Bellevilloise vous propose une rentré
 e les yeux grands ouverts. Deux expositions mettront a l’honneur les Tsig
 anes dans l’oeil de Tony Gatlif en septembre et octobre puis les Etats-Un
 is dans l’objectif de la photographe Anne Hollande en Novembre 50 Etats e
 t une immensité de paradoxes\, [..]\nhttps://www.9lives-magazine.com/event
 s/americana-anne-hollande/
URL:https://www.9lives-magazine.com/events/americana-anne-hollande/
END:VEVENT
END:VCALENDAR