BEGIN:VCALENDAR
VERSION:2.0
PRODID:-//eventon.com NONSGML v1.0//EN
CALSCALE:GREGORIAN
METHOD:PUBLISH
BEGIN:VEVENT
UID:69e8f6855302a
DTSTAMP:20260422T162541Z
DTSTART:20191106T143000Z
DTEND:20191220T190000Z
LOCATION:Le salon H 6/8 rue de Savoie\,  75006 Paris
SUMMARY:Corinne Mercadier
DESCRIPTION:Le Salon H présente des oeuvres uniques de Corinne Mercadier\,
   Polaroids SX70 originaux réalisés entre 1987 et 2002\,  et dessins sur 
 papier à l’encre et au crayon de couleur de 2008 à 2014. Corinne Mercad
 ier a toujours dessiné\,  et passant à la photographie elle a continué d
 &rsquo;une part pour construire[..]\nhttps://www.9lives-magazine.com/events
 /corinne-mercadier-polaroids-dessins/
URL:https://www.9lives-magazine.com/events/corinne-mercadier-polaroids-dessins/
END:VEVENT
END:VCALENDAR