BEGIN:VCALENDAR
VERSION:2.0
PRODID:-//eventon.com NONSGML v1.0//EN
CALSCALE:GREGORIAN
METHOD:PUBLISH
BEGIN:VEVENT
UID:69eb64dd3f574
DTSTAMP:20260424T124101Z
DTSTART:20190901T000000Z
DTEND:20191130T000000Z
LOCATION:
SUMMARY:Participer à la 9ème édition de Rendez-vous • Image
DESCRIPTION:Rendez-vous • Image\,  le salon photo et livre de Strasbourg.
  Il se tiendra du 24 au 26 janvier 2020 pour sa 9e édition. Professionnels
  et passionnés\,  exposez vos oeuvres et venez à la rencontre du public. 
 Du 24 au 26 janvier 2020\,  au Palais des Congrès de Strasbourg\,  se tien
 dra[..]\nhttps://www.9lives-magazine.com/events/participer-a-ledition-2020-
 de-rendez-%e2%80%a2-image/
URL:https://www.9lives-magazine.com/events/participer-a-ledition-2020-de-rendez-%e2%80%a2-image/
END:VEVENT
END:VCALENDAR