BEGIN:VCALENDAR
VERSION:2.0
PRODID:-//eventon.com NONSGML v1.0//EN
CALSCALE:GREGORIAN
METHOD:PUBLISH
BEGIN:VEVENT
UID:69eb63b837d99
DTSTAMP:20260424T123608Z
DTSTART:20191030T130000Z
DTEND:20191124T190000Z
LOCATION:Ancien Musée de Peinture 9 Pl. de Verdun\,  38000 Grenoble
SUMMARY:Le Mois de la Photo 2019 à Grenoble
DESCRIPTION:À l’Ancien Musée de Peinture Et dans l’agglomération gre
 nobloise Né en 2013 à Grenoble\,  le Mois de la Photo est aujourd’hui u
 n festival photographique majeur de la région. Il réunit plus de 50 parte
 naires et s’étend dans la région Auvergne &#8211; Rhône Alpes\,  en pr
 oposant des expositions et des événements[..]\nhttps://www.9lives-magazin
 e.com/events/mois-de-photo-2019-a-grenoble/
URL:https://www.9lives-magazine.com/events/mois-de-photo-2019-a-grenoble/
END:VEVENT
END:VCALENDAR