BEGIN:VCALENDAR
VERSION:2.0
PRODID:-//eventon.com NONSGML v1.0//EN
CALSCALE:GREGORIAN
METHOD:PUBLISH
BEGIN:VEVENT
UID:69e878165adb0
DTSTAMP:20260422T072614Z
DTSTART:20191121T120000Z
DTEND:20200111T190000Z
LOCATION:Atelier l’Oeil Vert 12 rue Léopold Bellan 75002 Paris
SUMMARY:Lambeaux de passage
DESCRIPTION:L’exposition itinérante de Sylvie Valem réunit deux séries
  réalisées entre 2017 et aujourd’hui. 53 rue Jean Rongière (2017 &#821
 1; 2018) amène le visiteur dans l’enfance de la photographe. Elle habita
 it une maison avec jardin dans la rue qui donne son nom à la série. Suite
  à la perte de sa[..]\nhttps://www.9lives-magazine.com/events/lambeaux-de-
 passage-sylvie-valem/
URL:https://www.9lives-magazine.com/events/lambeaux-de-passage-sylvie-valem/
END:VEVENT
END:VCALENDAR