BEGIN:VCALENDAR
VERSION:2.0
PRODID:-//eventon.com NONSGML v1.0//EN
CALSCALE:GREGORIAN
METHOD:PUBLISH
BEGIN:VEVENT
UID:69e923391de71
DTSTAMP:20260422T193625Z
DTSTART:20191205T000000Z
DTEND:20200208T235900Z
LOCATION:
SUMMARY:Concours All About Photo Awards 2020
DESCRIPTION:All About Photo invite les photographes du monde entier Ã  part
 iciper au concours Â«Â All About Photo Awards 2020\,  The Mind&rsquo;s EyeÂ
  Â». Cinq gagnants se partageront $10\, 000 de prix\,  ainsi qu&rsquo;une r
 econnaissance internationale. $10\, 000 pour les 5 laurÃ©ats Le grand prix 
 est de $5\, 000\,  2Ã¨me place: $2\, 000\,  3Ã¨me place: $1\, 500\,  4Ã¨me[
 ..]\nhttps://www.9lives-magazine.com/events/concours-all-about-photo-awards
 -2020/
URL:https://www.9lives-magazine.com/events/concours-all-about-photo-awards-2020/
END:VEVENT
END:VCALENDAR