BEGIN:VCALENDAR
VERSION:2.0
PRODID:-//eventon.com NONSGML v1.0//EN
CALSCALE:GREGORIAN
METHOD:PUBLISH
BEGIN:VEVENT
UID:69e6d1e03ebe6
DTSTAMP:20260421T012448Z
DTSTART:20191201T000000Z
DTEND:20200131T000000Z
LOCATION:
SUMMARY:Résidence 1+2 Factory : Appel à projets réservé à la photographie d'Occitanie
DESCRIPTION:Résidence photographique à la Clinique Pasteur\,  Toulouse Pu
 blic : un/une photographe d’Occitanie\,  sans limite d’âge Lieu : Clin
 ique Pasteur (Toulouse) Durée : début mars &#8211; fin juin 2020 Thème :
  le lien Date limite de réception des dossiers : 31 janvier 2020 à 19h An
 nonce du/de la lauréat.e : 16[..]\nhttps://www.9lives-magazine.com/events/
 residence-12-factory-appel-a-projets-reserve-a-jeune-photographie-doccitani
 e/
URL:https://www.9lives-magazine.com/events/residence-12-factory-appel-a-projets-reserve-a-jeune-photographie-doccitanie/
END:VEVENT
END:VCALENDAR