BEGIN:VCALENDAR
VERSION:2.0
PRODID:-//eventon.com NONSGML v1.0//EN
CALSCALE:GREGORIAN
METHOD:PUBLISH
BEGIN:VEVENT
UID:69e5dffea2b52
DTSTAMP:20260420T081246Z
DTSTART:20200130T150000Z
DTEND:20200314T170000Z
LOCATION:Galerie Polka 12\,  rue Saint-Gilles 75003 Paris
SUMMARY:Gold
DESCRIPTION:« La première fois que je vis la mine de Serra Pelada\,  je 
 restai sans voix. Devant moi s&rsquo;ouvrait une immense fosse de presque d
 eux cents mètres de diamètre pour une profondeur identique\,  où grouill
 aient des dizaines de milliers d&rsquo;hommes à peine vêtus\,  dont la mo
 itié montait de lourds sacs de[..]\nhttps://www.9lives-magazine.com/events
 /gold-sebastiao-salgado/
URL:https://www.9lives-magazine.com/events/gold-sebastiao-salgado/
END:VEVENT
END:VCALENDAR