BEGIN:VCALENDAR
VERSION:2.0
PRODID:-//eventon.com NONSGML v1.0//EN
CALSCALE:GREGORIAN
METHOD:PUBLISH
BEGIN:VEVENT
UID:69e51eae1fc80
DTSTAMP:20260419T182758Z
DTSTART:20200129T110000Z
DTEND:20200601T180000Z
LOCATION:Musée de l’Elysée 18\,  avenue de l’Elysée CH – 1014\,  Lausanne
SUMMARY:René Burri\,  l'explosion du regard
DESCRIPTION:Né en 1933 et décédé en 2014 à Zurich (Suisse)\,  René Bu
 rri a été\,  tout le long de sa vie\,  aux avant-postes de l’histoire m
 ondiale. Rejoignant Magnum Photos en 1955\,  il en est devenu membre en 195
 9. Au fil de presque soixante ans de carrière\,  il a parcouru l’Europe\
 ,  le[..]\nhttps://www.9lives-magazine.com/events/rene-burri-lexplosion-reg
 ard/
URL:https://www.9lives-magazine.com/events/rene-burri-lexplosion-regard/
END:VEVENT
END:VCALENDAR