BEGIN:VCALENDAR
VERSION:2.0
PRODID:-//eventon.com NONSGML v1.0//EN
CALSCALE:GREGORIAN
METHOD:PUBLISH
BEGIN:VEVENT
UID:69e6eea10163e
DTSTAMP:20260421T032729Z
DTSTART:20200307T100000Z
DTEND:20200830T180000Z
LOCATION:MAC VAL Musée d’art contemporain du Val-de-Marne Place de la Libération 94400 Vitry-sur-Seine
SUMMARY:L’avant-dernière version de la réalité
DESCRIPTION:Dès le 7 mars 2020\,  le MAC VAL entame sa nouvelle saison art
 istique avec la première exposition monographique muséale en France de de
 ux jeunes artistes engagés\,  David Brognon et Stéphanie Rollin. Ce duo\,
   actif depuis 2006 et déjà intégré dans la collection du MAC VAL\,  pl
 onge avec autant de ferveur[..]\nhttps://www.9lives-magazine.com/events/lav
 ant-derniere-version-de-realite-stephanie-rollin-david-brognon/
URL:https://www.9lives-magazine.com/events/lavant-derniere-version-de-realite-stephanie-rollin-david-brognon/
END:VEVENT
END:VCALENDAR