BEGIN:VCALENDAR
VERSION:2.0
PRODID:-//eventon.com NONSGML v1.0//EN
CALSCALE:GREGORIAN
METHOD:PUBLISH
BEGIN:VEVENT
UID:69ebfa6aa4872
DTSTAMP:20260424T231906Z
DTSTART:20200220T100000Z
DTEND:20200816T180000Z
LOCATION:La Sucrière 49-50 quai Rambaud 69002 Lyon
SUMMARY:Genesis
DESCRIPTION:Sebastião SALGADO\,  photographe franco-brésilien et humanist
 e\,  se consacre depuis 40 ans à l&rsquo;environnement et à la démograph
 ie. La Sucrière à Lyon accueille\,  du 20 février au 10 mai 2020\,  « G
 ENESIS » l&rsquo;exposition événement du photographe\,  une véritable i
 nvitation au voyage et à la réflexion sur notre planète et sur[..]\nhttp
 s://www.9lives-magazine.com/events/genesis-sebastiao-salgado/
URL:https://www.9lives-magazine.com/events/genesis-sebastiao-salgado/
END:VEVENT
END:VCALENDAR