BEGIN:VCALENDAR
VERSION:2.0
PRODID:-//eventon.com NONSGML v1.0//EN
CALSCALE:GREGORIAN
METHOD:PUBLISH
BEGIN:VEVENT
UID:69e7786481088
DTSTAMP:20260421T131516Z
DTSTART:20200110T100000Z
DTEND:20200329T180000Z
LOCATION:Le Musée de la Photographie Centre d´art contemporain de la Fédération Wallonie-Bruxelles 11 Avenue Paul Pastur\,  6032 Mont-sur-Marchienne\,  Belgique
SUMMARY:Tidal Horizon
DESCRIPTION:Le partenariat amorcé par le Summer of Photography 2018 entre 
 le Centre Culturel Jacques Franck et le Musée de la Photographie de Charle
 roi aboutit aujourd’hui à une carte blanche du Musée au sein du Centre 
 Culturel. Pour cette seconde collaboration\,  le choix du Musée s’est po
 rté sur un photographe belge[..]\nhttps://www.9lives-magazine.com/events/t
 idal-horizon-matthieu-litt/
URL:https://www.9lives-magazine.com/events/tidal-horizon-matthieu-litt/
END:VEVENT
END:VCALENDAR