BEGIN:VCALENDAR
VERSION:2.0
PRODID:-//eventon.com NONSGML v1.0//EN
CALSCALE:GREGORIAN
METHOD:PUBLISH
BEGIN:VEVENT
UID:69ed0ccf2ac1c
DTSTAMP:20260425T184951Z
DTSTART:20201022T143000Z
DTEND:20201115T193000Z
LOCATION:Atelier/Galerie Taylor 7 Rue Taylor\,  75010 Paris
SUMMARY:Cyril Abad et Didier Bizet
DESCRIPTION:Cyril Abad et Didier Bizet dédicaceront leurs livres lors de l
 a journée de vernissage. In god we trust et Le grand mensonge sont parus l
 e 8 octobre aux éditions Revelatœr et Pyramyd\nhttps://www.9lives-magazin
 e.com/events/in-god-we-trust-cyril-abad/
URL:https://www.9lives-magazine.com/events/in-god-we-trust-cyril-abad/
END:VEVENT
END:VCALENDAR