BEGIN:VCALENDAR
VERSION:2.0
PRODID:-//eventon.com NONSGML v1.0//EN
CALSCALE:GREGORIAN
METHOD:PUBLISH
BEGIN:VEVENT
UID:69e55efa4b429
DTSTAMP:20260419T230218Z
DTSTART:20200118T140000Z
DTEND:20200228T180000Z
LOCATION:Galerie Raymond Banas\,  Maison de la Culture et des Loisirs de Metz 36 rue St Marcel 57000 Metz
SUMMARY:Josephine
DESCRIPTION:1er juillet 2009\,  naissance de Joséphine. Le doute et les pe
 urs se mêlent à la joie et à la fierté. Avoir un enfant peut être la c
 hose la plus simple du monde. Pour nous\,  ce fut long\,  improbable\,  uni
 que. À la maternité\,  ils appellent cela une « grossesse précieuse ».
 [..]\nhttps://www.9lives-magazine.com/events/josephine-arno-brignon-4/
URL:https://www.9lives-magazine.com/events/josephine-arno-brignon-4/
END:VEVENT
END:VCALENDAR