BEGIN:VCALENDAR
VERSION:2.0
PRODID:-//eventon.com NONSGML v1.0//EN
CALSCALE:GREGORIAN
METHOD:PUBLISH
BEGIN:VEVENT
UID:69ebd09447374
DTSTAMP:20260424T202036Z
DTSTART:20191230T000000Z
DTEND:20200215T000000Z
LOCATION:
SUMMARY:C*ensorsh*p. Femmes photographes
DESCRIPTION:Le Concours / Exposition pour faire bouger les choses. Nous col
 laborons avec Foto Femme United (FFU) pour lancer leur tout premier concour
 s photographique\,  et exposition sur le thème de la censure dans les méd
 ias. L’exposition pop-up aura lieu du 12 au 19 mars. L’appel ouvert com
 mence le 30 Décembre et[..]\nhttps://www.9lives-magazine.com/events/censor
 shp-femmes-photographes/
URL:https://www.9lives-magazine.com/events/censorshp-femmes-photographes/
END:VEVENT
END:VCALENDAR