BEGIN:VCALENDAR
VERSION:2.0
PRODID:-//eventon.com NONSGML v1.0//EN
CALSCALE:GREGORIAN
METHOD:PUBLISH
BEGIN:VEVENT
UID:69e4cd749b356
DTSTAMP:20260419T124124Z
DTSTART:20200131T150000Z
DTEND:20200314T190000Z
LOCATION:Galerie Annie Gabrielli 33 avenue F Delmas (av. de Nîmes) 34000 Montpellier
SUMMARY:SUPERNATURA
DESCRIPTION:C’est un regard sur la nature et sur la relation complexe que
  l’homme entretient avec elle que porte la photographe italienne Annamari
 a Belloni dans sa série Supernatura. A l’heure de l’anthropocène\,  e
 lle choisit de nous ouvrir les yeux sur ses beautés simples et immédiates
 \,  qui pourraient nous défier et se[..]\nhttps://www.9lives-magazine.com/
 events/supernatura-annamaria-belloni/
URL:https://www.9lives-magazine.com/events/supernatura-annamaria-belloni/
END:VEVENT
END:VCALENDAR