BEGIN:VCALENDAR
VERSION:2.0
PRODID:-//eventon.com NONSGML v1.0//EN
CALSCALE:GREGORIAN
METHOD:PUBLISH
BEGIN:VEVENT
UID:69e8dfb44567b
DTSTAMP:20260422T144820Z
DTSTART:20200121T140800Z
DTEND:20200221T140800Z
LOCATION:La Scam 5 avenue Vélasquez 75008 Paris
SUMMARY:Prix Mentor 2020. Paris Session #2
DESCRIPTION:• Public cible : Auteur.e.s photographes • Session #2 à Pa
 ris : le 19 mars 2020 à la Scam • Bourse de production de 5 000 € et F
 ormation CFPJ de 2 500 € + Expertise des membres de Freelens et de la Sca
 m • Date de dépôt des dossiers[..]\nhttps://www.9lives-magazine.com/eve
 nts/prix-mentor-2020-paris-session-2/
URL:https://www.9lives-magazine.com/events/prix-mentor-2020-paris-session-2/
END:VEVENT
END:VCALENDAR