BEGIN:VCALENDAR
VERSION:2.0
PRODID:-//eventon.com NONSGML v1.0//EN
CALSCALE:GREGORIAN
METHOD:PUBLISH
BEGIN:VEVENT
UID:69ebd29d1a7c0
DTSTAMP:20260424T202917Z
DTSTART:20200214T110000Z
DTEND:20200216T200000Z
LOCATION:Espace Bertrand Grimont 43\,  Rue de Montmorency\,  75003 Paris
SUMMARY:Salon de la Mort
DESCRIPTION:Vous pouvez assister à la mise en bière pendant trois jours. 
 Une centaine d’artistes vivants vous proposent leurs exorcismes en une se
 ule oeuvre chacun\,  à l’instar des salons anciens. Certains travaillent
  la mort d’une manière assez abstraite\,  telle une retraite hypothétiq
 ue et inaccessible\,  une luciole lointaine dans la nuit. D’autres[..]\nh
 ttps://www.9lives-magazine.com/events/salon-de-mort/
URL:https://www.9lives-magazine.com/events/salon-de-mort/
END:VEVENT
END:VCALENDAR