BEGIN:VCALENDAR
VERSION:2.0
PRODID:-//eventon.com NONSGML v1.0//EN
CALSCALE:GREGORIAN
METHOD:PUBLISH
BEGIN:VEVENT
UID:69e4c3d6d4f2f
DTSTAMP:20260419T120022Z
DTSTART:20200215T140000Z
DTEND:20200822T190000Z
LOCATION:Centre photographique Rouen Normandie 15\,  rue de la Chaîne 76000 Rouen
SUMMARY:Fils
DESCRIPTION:Studio du portraitiste néerlandais Koos Breukel\,  Amsterdam. 
 À l’intérieur\,  un mur sur lequel se pressent les uns contre les autre
 s sans hiérarchie de taille ni de support\,  sans chronologie\,  une petit
 e foule de tirages. Le regard s’y promène\,  passe d’une photographie 
 en pied et en couleur du couple royal à[..]\nhttps://www.9lives-magazine.c
 om/events/fils-koos-breukel/
URL:https://www.9lives-magazine.com/events/fils-koos-breukel/
END:VEVENT
END:VCALENDAR