BEGIN:VCALENDAR
VERSION:2.0
PRODID:-//eventon.com NONSGML v1.0//EN
CALSCALE:GREGORIAN
METHOD:PUBLISH
BEGIN:VEVENT
UID:69ebcd5025088
DTSTAMP:20260424T200640Z
DTSTART:20210605T210000Z
DTEND:20210621T050000Z
LOCATION:
SUMMARY:Festival Présence(s) photographie #06
DESCRIPTION:Présence(s) Photographie propose chaque année deux semaines d
 ont trois week-ends consacrés entièrement à la photographie d’auteur. 
 Centré sur la ville de Montélimar\,  le festival s’étend aussi des deu
 x côtés du Rhône\,  notamment à Rochemaure\,  Le Teil\,  Meysse. Pour c
 ette sixième édition\,  Présence(s) Photographie met à l’honneur la p
 hotographe Françoise Huguier.[..]\nhttps://www.9lives-magazine.com/events/
 festival-presences-photographie-06/
URL:https://www.9lives-magazine.com/events/festival-presences-photographie-06/
END:VEVENT
END:VCALENDAR