BEGIN:VCALENDAR
VERSION:2.0
PRODID:-//eventon.com NONSGML v1.0//EN
CALSCALE:GREGORIAN
METHOD:PUBLISH
BEGIN:VEVENT
UID:69e6019e89116
DTSTAMP:20260420T103614Z
DTSTART:20200512T100000Z
DTEND:20200829T200000Z
LOCATION:Poltred\,  La Maison des Photographes 54 Cours de la Liberté 69003 Lyon
SUMMARY:L'exposition collective de Poltred acte 4
DESCRIPTION:Poltred continue sa curation et vous propose 4 nouveaux talents
  à découvrir pendant 3 mois. &#8211; Magali Wood &#8211; Pauline Dreyer &
 #8211; Mediogram &#8211; Florian Langelier &#8211; Arnaud Bathiard Vernissa
 ge le jeudi 13 février à 18h Exposition du 13 février au 5 mai 2020. Par
 tenaires: Labo Photo LYNX Crédit photo[..]\nhttps://www.9lives-magazine.co
 m/events/lexposition-collective-de-poltred-acte-4/
URL:https://www.9lives-magazine.com/events/lexposition-collective-de-poltred-acte-4/
END:VEVENT
END:VCALENDAR