BEGIN:VCALENDAR
VERSION:2.0
PRODID:-//eventon.com NONSGML v1.0//EN
CALSCALE:GREGORIAN
METHOD:PUBLISH
BEGIN:VEVENT
UID:69e893e750863
DTSTAMP:20260422T092455Z
DTSTART:20200903T120000Z
DTEND:20201010T190000Z
LOCATION:Galerie Esther Woerdehoff 36 rue FalguiÃ¨re\,  75015 Paris
SUMMARY:LaurÃ©ates 2020 du Prix HSBC pour la Photographie
DESCRIPTION:Les sÃ©ries des deux laurÃ©ates de cette 25Ã¨me Ã©dition du Pri
 x HCBC pour la Photographie sont exposÃ©es pour la premiÃ¨re fois Ã  la gal
 erie Esther Woerdehoff. La photographe hollandaise Louise HonÃ©e et la fran
 Ã§aise Charlotte Mano prÃ©sentent respectivement Â« We Love Where We Live Â
 » et Â« Thank you mum[..]\nhttps://www.9lives-magazine.com/events/laureates
 -2020-prix-hsbc-photographie-louise-honee-charlotte-mano/
URL:https://www.9lives-magazine.com/events/laureates-2020-prix-hsbc-photographie-louise-honee-charlotte-mano/
END:VEVENT
END:VCALENDAR