BEGIN:VCALENDAR
VERSION:2.0
PRODID:-//eventon.com NONSGML v1.0//EN
CALSCALE:GREGORIAN
METHOD:PUBLISH
BEGIN:VEVENT
UID:69e8c9143f3b3
DTSTAMP:20260422T131148Z
DTSTART:20200307T140000Z
DTEND:20200627T190000Z
LOCATION:Galerie Dix9 Hélène Lacharmoise 19\,  rue des Filles du Calvaire 75003 Paris
SUMMARY:La Fabrique du Temps
DESCRIPTION:Artistes : Leyla Cardenas\,  Karine Hoffman\,  Katia Kameri\,  
 Vincent Lemaire\,  Anila Rubiku\,  Paula de Solminihac\,  Yang Yi Vaste suj
 et physique et métaphysique\,  la définition du temps\,  son origine et s
 a nature et de là\,  les multiples approches pour l’appréhender\,  n’
 ont cessé de nourrir les préoccupations humaines depuis des millénaires:
  qu’il[..]\nhttps://www.9lives-magazine.com/events/la-fabrique-du-temps/
URL:https://www.9lives-magazine.com/events/la-fabrique-du-temps/
END:VEVENT
END:VCALENDAR