BEGIN:VCALENDAR
VERSION:2.0
PRODID:-//eventon.com NONSGML v1.0//EN
CALSCALE:GREGORIAN
METHOD:PUBLISH
BEGIN:VEVENT
UID:69e9eb3c11a49
DTSTAMP:20260423T094948Z
DTSTART:20200214T140000Z
DTEND:20200630T180000Z
LOCATION:Centre Photographique Marseille 74 rue de la Joliette 13002 Marseille
SUMMARY:La Photographie en passant
DESCRIPTION:Les vitrines de la rue de la RÃ©publique sâ€™ouvrent Ã  la phot
 ographie ! Dans la lignÃ©e de lâ€™installation Â« lâ€™Art en passant Â» (rÃ
 ©alisÃ© par le musÃ©e Regard de Provence) Â« la Photographie en passant Â» 
 propose de tisser des liens entre le grand public et la photographie contem
 poraine pratiquÃ©e[..]\nhttps://www.9lives-magazine.com/events/la-photograp
 hie-en-passant/
URL:https://www.9lives-magazine.com/events/la-photographie-en-passant/
END:VEVENT
END:VCALENDAR