BEGIN:VCALENDAR
VERSION:2.0
PRODID:-//eventon.com NONSGML v1.0//EN
CALSCALE:GREGORIAN
METHOD:PUBLISH
BEGIN:VEVENT
UID:69ea1d178f073
DTSTAMP:20260423T132231Z
DTSTART:20200401T000000Z
DTEND:20200510T000000Z
LOCATION:
SUMMARY:Prix SAIF pour Les femmes s’exposent
DESCRIPTION:La SAIF s’associe au festival dédié aux femmes photographes
 \,  Les femmes s’exposent\,  qui se tiendra à Houlgate du 12 juin au 31 
 août 2020\,  et lance à cette occasion la 3eme édition de son Prix photo
 graphique. Ce prix récompense une femme photographe pour son travail artis
 tique\,  il met en lumière[..]\nhttps://www.9lives-magazine.com/events/pri
 x-saif-femmes-sexposent/
URL:https://www.9lives-magazine.com/events/prix-saif-femmes-sexposent/
END:VEVENT
END:VCALENDAR