BEGIN:VCALENDAR
VERSION:2.0
PRODID:-//eventon.com NONSGML v1.0//EN
CALSCALE:GREGORIAN
METHOD:PUBLISH
BEGIN:VEVENT
UID:69e75f782ec13
DTSTAMP:20260421T112856Z
DTSTART:20200514T150000Z
DTEND:20200704T170000Z
LOCATION:Galerie Polka 12\,  rue Saint-Gilles 75003 Paris
SUMMARY:Foule sentimentale
DESCRIPTION:Exposition collective avec les travaux de Bernard Cantié\,  Ri
 chard Dumas\,  Elliott Erwitt\,  Bruce Gilden\,  Alexander Gronsky\,  Willi
 am Klein\,  Yves Marchand &#038; Romain Meffre\,  Joel Meyerowitz\,  Daido 
 Moriyama\,  Janine Niépce\,  Claude Nori\,  Jean-Marie Périer et The Anon
 ymous Project. Après ces deux mois de confinement\,  la galerie Polka choi
 sit de rouvrir ses[..]\nhttps://www.9lives-magazine.com/events/foule-sentim
 entale/
URL:https://www.9lives-magazine.com/events/foule-sentimentale/
END:VEVENT
END:VCALENDAR