BEGIN:VCALENDAR
VERSION:2.0
PRODID:-//eventon.com NONSGML v1.0//EN
CALSCALE:GREGORIAN
METHOD:PUBLISH
BEGIN:VEVENT
UID:69e50aceee08b
DTSTAMP:20260419T170310Z
DTSTART:20200725T150000Z
DTEND:20200920T190000Z
LOCATION:Centre d’art et de photographie de Lectoure Maison de Saint-Louis\,  8 cours Gambetta\,  32700 Lectoure
SUMMARY:L’Été photographique de Lectoure 2020
DESCRIPTION:La crise sanitaire fonctionne comme un grand révélateur\,  co
 ntribue à poser un regard critique sur nos modes de vie et nous donne l’
 occasion de repenser les écosystèmes entre global et local. Une question 
 se pose : est-ce que des formes de « circuits courts » – terminologie u
 tilisé habituellement pour[..]\nhttps://www.9lives-magazine.com/events/let
 e-photographique-de-lectoure-copy/
URL:https://www.9lives-magazine.com/events/lete-photographique-de-lectoure-copy/
END:VEVENT
END:VCALENDAR