BEGIN:VCALENDAR
VERSION:2.0
PRODID:-//eventon.com NONSGML v1.0//EN
CALSCALE:GREGORIAN
METHOD:PUBLISH
BEGIN:VEVENT
UID:69e9879be7199
DTSTAMP:20260423T024443Z
DTSTART:20200605T000000Z
DTEND:20200615T000000Z
LOCATION:Mains d&#039;Œuvres 1 Rue Charles Garnier\,   93400 Saint-Ouen
SUMMARY:Appel à projet - Résidence artistique propulsée
DESCRIPTION:La résidence propulsée d’1 an permet de donner un coup de b
 oost au développement de 4 projets de création en les accompagnant dans l
 eur émergence\,  professionnalisation et diffusion.AccompagnementPendant l
 a résidence\,  les 3 projets sélectionnés bénéficieront d’un accompa
 gnement\,  via des rendez-vous réguliers avec l’équipe et le collectif 
 de programmation\,  des journées[..]\nhttps://www.9lives-magazine.com/even
 ts/appel-a-projet-residence-artistique-propulsee/
URL:https://www.9lives-magazine.com/events/appel-a-projet-residence-artistique-propulsee/
END:VEVENT
END:VCALENDAR