BEGIN:VCALENDAR
VERSION:2.0
PRODID:-//eventon.com NONSGML v1.0//EN
CALSCALE:GREGORIAN
METHOD:PUBLISH
BEGIN:VEVENT
UID:69e60170d8534
DTSTAMP:20260420T103528Z
DTSTART:20200613T140000Z
DTEND:20200712T183000Z
LOCATION:CPIF - Centre Photographique d&#039;Ile-de-France 107 Avenue de la République\,  77340 Pontault-Combault
SUMMARY:Réversible
DESCRIPTION:Cette proposition inédite est le troisième volet du projet d
 e Constance Nouvel qui s’est déployé dans un premier temps avec Atlan
 te à la galerie In Situ – fabienne leclerc à Paris\,  puis Solstice a
 u Centre d’art/éditeur Le Point du Jour\,  à Cherbourg. Commissariat 
 : Nathalie Giraudeau Le projet se présente[..]\nhttps://www.9lives-magazi
 ne.com/events/reversible/
URL:https://www.9lives-magazine.com/events/reversible/
END:VEVENT
END:VCALENDAR