BEGIN:VCALENDAR
VERSION:2.0
PRODID:-//eventon.com NONSGML v1.0//EN
CALSCALE:GREGORIAN
METHOD:PUBLISH
BEGIN:VEVENT
UID:69e544ba0ee87
DTSTAMP:20260419T211018Z
DTSTART:20200614T140000Z
DTEND:20200725T190000Z
LOCATION:Galerie Charlot 47 rue Charlot\,  75003 Paris
SUMMARY:Egyptian Paths
DESCRIPTION:Nikolas Chasser Skilbeck est un Plasticien/Vidéaste né à New
  York en 1985. Son regard singulier nous propose un monde pictural\,  poét
 ique et étrange. Au travers de différents dispositifs (écrans HD LED\,  
 projections\,  mapping sur bâtiment\,  installation\,  hologrammes) et ave
 c une forte inspiration puisée dans l’histoire de l’art et du cinéma\
 , [..]\nhttps://www.9lives-magazine.com/events/egyptian-paths-nikolas-chass
 er-skilbeck/
URL:https://www.9lives-magazine.com/events/egyptian-paths-nikolas-chasser-skilbeck/
END:VEVENT
END:VCALENDAR