BEGIN:VCALENDAR
VERSION:2.0
PRODID:-//eventon.com NONSGML v1.0//EN
CALSCALE:GREGORIAN
METHOD:PUBLISH
BEGIN:VEVENT
UID:69e6c5c7d3fd6
DTSTAMP:20260421T003311Z
DTSTART:20200611T140000Z
DTEND:20200726T193000Z
LOCATION:Galerie GADCOLLECTION 4 Rue du Pont Louis-Philippe 75004 Paris
SUMMARY:Africa
DESCRIPTION:Du 11 juin au 26 juillet 2020\,  la Galerie GADCOLLECTION accue
 ille la troisiÃ¨me exposition du photographe Kyriakos KAZIRAS : â€˜Africaâ€
 ™. Kyriakos KAZIRAS est un photographe franco-grec. Ses grands-parents le s
 ensibilisent dÃ¨s son plus jeune Ã¢ge Ã  lâ€™art et la photographie. En par
 allÃ¨le de ses Ã©tudes en littÃ©rature Ã  la Sorbonne\, [..]\nhttps://www.9
 lives-magazine.com/events/africa-kyriakos-kaziras/
URL:https://www.9lives-magazine.com/events/africa-kyriakos-kaziras/
END:VEVENT
END:VCALENDAR