BEGIN:VCALENDAR
VERSION:2.0
PRODID:-//eventon.com NONSGML v1.0//EN
CALSCALE:GREGORIAN
METHOD:PUBLISH
BEGIN:VEVENT
UID:69e6136dc2f88
DTSTAMP:20260420T115213Z
DTSTART:20200912T110000Z
DTEND:20201011T180000Z
LOCATION:Chapelle du Quartier Haut 2-10 Rue Borne\,  34200 SÃ¨te
SUMMARY:ClÃ©mentine Schneidermann : SÃ¨te #20
DESCRIPTION:Chaque annÃ©e\,  lâ€™association CÃ©TÃ VOIR invite\,  dans le c
 adre du festival ImageSinguliÃ¨res\,  un ou une photographe en rÃ©sidence Ã
   SÃ¨te. Une immersion dans la ville pendant quatre Ã  six semaines\,  oÃ¹ 
 lâ€™artiste sÃ©lectionnÃ©.e a carte blanche pour rÃ©aliser un travail sur l
 e territoire et ses habitants. En 2020\,  câ€™est la photographe[..]\nhttps
 ://www.9lives-magazine.com/events/clementine-schneidermann-sete-20/
URL:https://www.9lives-magazine.com/events/clementine-schneidermann-sete-20/
END:VEVENT
END:VCALENDAR