BEGIN:VCALENDAR
VERSION:2.0
PRODID:-//eventon.com NONSGML v1.0//EN
CALSCALE:GREGORIAN
METHOD:PUBLISH
BEGIN:VEVENT
UID:69ebfa74070a4
DTSTAMP:20260424T231916Z
DTSTART:20200626T140000Z
DTEND:20200802T190000Z
LOCATION:Atelier Alonso 5 rue de Grille 13200 Arles
SUMMARY:Photographies & Illustrations
DESCRIPTION:Frank G Alonso\,  artiste photographe et fondateur de l’Ateli
 er Alonso spécialisé dans les tirages Fine Art\,  propose cet été une e
 xposition collective et généreuse\,  issue de ses rencontres artistiques.
  Il sera possible d’y découvrir son travail\,  celui de deux autres arti
 stes photographes\,  Isabelle Liv et Nicolas Olivier et d’une peintre[..]
 \nhttps://www.9lives-magazine.com/events/photographies-illustrations/
URL:https://www.9lives-magazine.com/events/photographies-illustrations/
END:VEVENT
END:VCALENDAR