BEGIN:VCALENDAR
VERSION:2.0
PRODID:-//eventon.com NONSGML v1.0//EN
CALSCALE:GREGORIAN
METHOD:PUBLISH
BEGIN:VEVENT
UID:69e502736e546
DTSTAMP:20260419T162731Z
DTSTART:20200501T110000Z
DTEND:20201030T190000Z
LOCATION:Le Buste et l&#039;oreille 3 Rue du Président Wilson 13200 Arles
SUMMARY:Nouveaux Westerns
DESCRIPTION:Le travail d’Armelle Sèvre s’attache à questionner le lie
 n entre les mediums cinématographiques et photographiques ou comment faire
  discuter ces deux statuts d’images sans les opposer. Installée depuis d
 eux ans à Arles\,  elle découvre le territoire camarguais qui s’est tou
 t de suite imposé à elle comme un possible lieu de[..]\nhttps://www.9live
 s-magazine.com/events/nouveaux-westerns-armelle-sevre/
URL:https://www.9lives-magazine.com/events/nouveaux-westerns-armelle-sevre/
END:VEVENT
END:VCALENDAR