BEGIN:VCALENDAR
VERSION:2.0
PRODID:-//eventon.com NONSGML v1.0//EN
CALSCALE:GREGORIAN
METHOD:PUBLISH
BEGIN:VEVENT
UID:69e97e18cd99b
DTSTAMP:20260423T020408Z
DTSTART:20200615T100000Z
DTEND:20200715T190000Z
LOCATION:Maison Volver 8 Rue de La Cavalerie 13200 Arles
SUMMARY:Arles Confinement 2020
DESCRIPTION:Laurent Golaz Fabrice Mauger Nadia Garde Cecilia Morra Nous som
 mes 4 personnes qui restituent leurs différents points de vues sur le conf
 inement à Arles.\nhttps://www.9lives-magazine.com/events/arles-confinement
 -2020/
URL:https://www.9lives-magazine.com/events/arles-confinement-2020/
END:VEVENT
END:VCALENDAR