BEGIN:VCALENDAR
VERSION:2.0
PRODID:-//eventon.com NONSGML v1.0//EN
CALSCALE:GREGORIAN
METHOD:PUBLISH
BEGIN:VEVENT
UID:69e9d4b351945
DTSTAMP:20260423T081339Z
DTSTART:20200704T100000Z
DTEND:20200816T190000Z
LOCATION:
SUMMARY:Mondes
DESCRIPTION:L’Arlésienne\,  dans la nouvelle éponyme d’Alphonse Daude
 t\,  est un personnage décrit mais n’apparaissant pas. Nouvelle manifest
 ation qui animera l’été dans la cité antique\,  Les Arlésiennes – l
 es rencontres photographiques de celles que l’on ne voit pas – entenden
 t dévoiler une part d’inconnu alors qu’elles exploreront le rapport qu
 e l’Homme entretient[..]\nhttps://www.9lives-magazine.com/events/mondes/
URL:https://www.9lives-magazine.com/events/mondes/
END:VEVENT
END:VCALENDAR