BEGIN:VCALENDAR
VERSION:2.0
PRODID:-//eventon.com NONSGML v1.0//EN
CALSCALE:GREGORIAN
METHOD:PUBLISH
BEGIN:VEVENT
UID:69e53fb38934b
DTSTAMP:20260419T204851Z
DTSTART:20200701T120000Z
DTEND:20200801T190000Z
LOCATION:Galerie Esther Woerdehoff 36 rue Falguière\,  75015 Paris
SUMMARY:Carré Blanc
DESCRIPTION:Cette exposition est la première de la galerie après le confi
 nement. C&rsquo;est une invitation à découvrir le travail d&rsquo;Eric Ma
 rrian\,  à vous plonger dans un univers de sensibilité et de sensualité.
  Ses images sont subtilement remplies de lumière &#8211; tout ce qu&rsquo;
 il nous faut après cette période d’enfermement ! Diplômé[..]\nhttps:/
 /www.9lives-magazine.com/events/carre-blanc-eric-marrian/
URL:https://www.9lives-magazine.com/events/carre-blanc-eric-marrian/
END:VEVENT
END:VCALENDAR