BEGIN:VCALENDAR
VERSION:2.0
PRODID:-//eventon.com NONSGML v1.0//EN
CALSCALE:GREGORIAN
METHOD:PUBLISH
BEGIN:VEVENT
UID:69eafcfc85efc
DTSTAMP:20260424T051748Z
DTSTART:20200910T100000Z
DTEND:20201115T180000Z
LOCATION:Lâ€™Institut pour la photographie 11\,  rue de Thionville 59 000 Lille
SUMMARY:Chaplin et le dictateur
DESCRIPTION:Lâ€™Institut pour la photographie sâ€™associe aux Rencontres dâ
 €™Arles pour la coproduction de lâ€™exposition consacrÃ©e au filmÂ Le Dicta
 teurÂ de Charlie Chaplin rÃ©alisÃ© en 1940\,  Ã  lâ€™occasion de son 80e an
 niversaire.Â Cette satire politique du rÃ©gime nazi et plus particuliÃ¨reme
 nt de la figure dâ€™Hitler\,  rÃ©alisÃ©e malgrÃ© les pressions du gouvernem
 ent allemand\,  fut le plus[..]\nhttps://www.9lives-magazine.com/events/cha
 plin-et-le-dictateur/
URL:https://www.9lives-magazine.com/events/chaplin-et-le-dictateur/
END:VEVENT
END:VCALENDAR