BEGIN:VCALENDAR
VERSION:2.0
PRODID:-//eventon.com NONSGML v1.0//EN
CALSCALE:GREGORIAN
METHOD:PUBLISH
BEGIN:VEVENT
UID:69ed81ff1a73b
DTSTAMP:20260426T030951Z
DTSTART:20210107T100000Z
DTEND:20210123T190000Z
LOCATION:
SUMMARY:PhotoSaintGermain 2020
DESCRIPTION:Chaque année\,  au mois de novembre\,  PhotoSaintGermain ré
 unit une sélection de musées\,  centres culturels\,  galeries et librai
 ries de la rive gauche autour d’un parcours photographique. Rencontres\, 
  projections\,  signatures et visites d’atelier rythment la programmation
 \,  en regard des expositions présentées. Autant de rendez-vous qui abo
 rdent les grandes tendances de la photographie[..]\nhttps://www.9lives-maga
 zine.com/events/photosaintgermain-2020/
URL:https://www.9lives-magazine.com/events/photosaintgermain-2020/
END:VEVENT
END:VCALENDAR