BEGIN:VCALENDAR
VERSION:2.0
PRODID:-//eventon.com NONSGML v1.0//EN
CALSCALE:GREGORIAN
METHOD:PUBLISH
BEGIN:VEVENT
UID:69e90d51da6ec
DTSTAMP:20260422T180257Z
DTSTART:20200909T140000Z
DTEND:20200926T190000Z
LOCATION:Galerie Guillaume 32 rue de Penthièvre\,  75008 Paris
SUMMARY:Silences
DESCRIPTION:Le photographe Thierry des Ouches nous offre avec “Silences
  son ouvrage le plus poétique et le plus intime. Cet explorateur du quoti
 dien\,  connu notamment pour avoir exposé des portraits géants de vaches 
 sur la très chic place Vendôme\,  cultive ce qu’il nomme “l’exotism
 e de proximité”. On se surprend ainsi\,  au[..]\nhttps://www.9lives-maga
 zine.com/events/silences-thierry-ouches/
URL:https://www.9lives-magazine.com/events/silences-thierry-ouches/
END:VEVENT
END:VCALENDAR