BEGIN:VCALENDAR
VERSION:2.0
PRODID:-//eventon.com NONSGML v1.0//EN
CALSCALE:GREGORIAN
METHOD:PUBLISH
BEGIN:VEVENT
UID:69e9945e7d152
DTSTAMP:20260423T033910Z
DTSTART:20200704T140000Z
DTEND:20201101T183000Z
LOCATION:STIMULTANIA Pôle de photographie 33 rue Kageneck\,  67000 Strasbourg
SUMMARY:Marcher dans l'image
DESCRIPTION:Voir à l’œuvre André Kertész\,  le photographe le plus ap
 précié des photographes\,  à travers des séquences de prises de vues qu
 e nous révèlent ses négatifs\,  accompagner les déambulations de son ob
 jectif dans le Paris des années 1930\,  partager sa joie de pouvoir marche
 r dans l’image tout en laissant les corps[..]\nhttps://www.9lives-magazin
 e.com/events/marcher-limage-andre-kertesz-2/
URL:https://www.9lives-magazine.com/events/marcher-limage-andre-kertesz-2/
END:VEVENT
END:VCALENDAR