BEGIN:VCALENDAR
VERSION:2.0
PRODID:-//eventon.com NONSGML v1.0//EN
CALSCALE:GREGORIAN
METHOD:PUBLISH
BEGIN:VEVENT
UID:69e4db715934f
DTSTAMP:20260419T134105Z
DTSTART:20200925T100000Z
DTEND:20201031T190000Z
LOCATION:Sept OFF 38 chemin du Mont Gros 06300 Nice
SUMMARY:Festival L'IMAGE_SATELLITE 2020
DESCRIPTION:Lâ€™Ã©dition 2020 du festival Lâ€™IMAGE_SATELLITE se tiendra du
  25 septembre au 31 octobre Ã  Nice et Vence. Le festival est conÃ§u comme 
 un parcours entre diffÃ©rentes expressions de la photographie contemporaine
  : approches de plasticiens\,  dÃ©marches documentaires\,  usages dÃ©tournÃ
 ©s et renouvelÃ©s du matÃ©riau photographiqueâ€¦ Cette annÃ©e\,  plusieurs 
 axes thÃ©matiques et[..]\nhttps://www.9lives-magazine.com/events/festival-l
 image_satellite-2020/
URL:https://www.9lives-magazine.com/events/festival-limage_satellite-2020/
END:VEVENT
END:VCALENDAR