BEGIN:VCALENDAR
VERSION:2.0
PRODID:-//eventon.com NONSGML v1.0//EN
CALSCALE:GREGORIAN
METHOD:PUBLISH
BEGIN:VEVENT
UID:69eaafc26411d
DTSTAMP:20260423T234818Z
DTSTART:20200903T110000Z
DTEND:20201010T190000Z
LOCATION:Galerie La Forest Divonne - Brussels Rue de l’Hôtel des Monnaies 66\,  1060 Bruxelles
SUMMARY:Silver Springs
DESCRIPTION:En 2017\,  les deux artistes avaient recouvert les murs de la g
 alerie de 36 portraits de jeunes hommes et femmes\,  de couples\,  d’amis
 . 36 histoires\,  36 destins qu’elles incarnaient tour à tour\,  car les
  deux jeunes femmes sont les modèles de leurs propres photographies. Elsa 
 &amp; Johanna\,  reviennent à Bruxelles[..]\nhttps://www.9lives-magazine.c
 om/events/silver-springs-elsa-joanna/
URL:https://www.9lives-magazine.com/events/silver-springs-elsa-joanna/
END:VEVENT
END:VCALENDAR