BEGIN:VCALENDAR
VERSION:2.0
PRODID:-//eventon.com NONSGML v1.0//EN
CALSCALE:GREGORIAN
METHOD:PUBLISH
BEGIN:VEVENT
UID:69e7eec45d54f
DTSTAMP:20260421T214020Z
DTSTART:20200710T100000Z
DTEND:20210409T180000Z
LOCATION:Clervaux - cité de l&#039;image asbl Grand-rue 11 L-9710 Clervaux\,  Luxembourg
SUMMARY:White Night
DESCRIPTION:La lumière constitue un phénomène global. Dans son cycle nat
 urel\,  elle est soumise aux lois d&rsquo;une altération rythmée. Dans so
 n contexte artificiel\,  elle échappe aux règles. La lumière industriell
 e reste\,  contrairement à son pendant naturel\,  un facteur commode et co
 ntrôlable. Les fines nuances d&rsquo;intensité et les coloris poétiques 
 observés durant[..]\nhttps://www.9lives-magazine.com/events/white-night-gi
 lles-coulon/
URL:https://www.9lives-magazine.com/events/white-night-gilles-coulon/
END:VEVENT
END:VCALENDAR