BEGIN:VCALENDAR
VERSION:2.0
PRODID:-//eventon.com NONSGML v1.0//EN
CALSCALE:GREGORIAN
METHOD:PUBLISH
BEGIN:VEVENT
UID:69e7b11cb71ce
DTSTAMP:20260421T171716Z
DTSTART:20200901T000000Z
DTEND:20200930T000000Z
LOCATION:La Galerie Ambulante 1 place des Etats-Unis 13014 Marseille
SUMMARY:Itinérance
DESCRIPTION:La Galerie Ambulante sillonnera la Région Sud de septembre 202
 0 à juillet 2021\,  avec une proposition de Bernard Plossu. Un choix de 25
  photographies noir et Blanc. Une ouverture au monde photographique de l’
 artiste marcheur. Bernard Plossu vit actuellement en France\,  même s’il
  continue à arpenter le monde. Il a[..]\nhttps://www.9lives-magazine.com/e
 vents/itinerance-bernard-plossu/
URL:https://www.9lives-magazine.com/events/itinerance-bernard-plossu/
END:VEVENT
END:VCALENDAR