BEGIN:VCALENDAR
VERSION:2.0
PRODID:-//eventon.com NONSGML v1.0//EN
CALSCALE:GREGORIAN
METHOD:PUBLISH
BEGIN:VEVENT
UID:69e52445589a2
DTSTAMP:20260419T185149Z
DTSTART:20200909T140000Z
DTEND:20201231T180000Z
LOCATION:Maison de la Photographie Lille 28 rue Pierre Legrand - 59000 Lille
SUMMARY:Charlotte Perriand. Photographies
DESCRIPTION:Articulée autour des principales thématiques explorées photo
 graphiquement par l’artiste de 1927 à 1940\,  le monde paysan\,  les obj
 ets naturels qualifiés par elle\,  Fernand Léger et Pierre Jeanneret d’
 « art brut »\,  les constructions industrielles\,  la montagne etc.\,  ce
 tte exposition donne à voir un aspect plus méconnu de l’artiste et rév
 èle[..]\nhttps://www.9lives-magazine.com/events/charlotte-perriand-photogr
 aphies/
URL:https://www.9lives-magazine.com/events/charlotte-perriand-photographies/
END:VEVENT
END:VCALENDAR